BEGIN:VCALENDAR
VERSION:2.0
PRODID:-//Andrésy Maurecourt Tennis de table - ECPv6.15.16//NONSGML v1.0//EN
CALSCALE:GREGORIAN
METHOD:PUBLISH
X-WR-CALNAME:Andrésy Maurecourt Tennis de table
X-ORIGINAL-URL:https://andresy-maurecourt-tt.fr
X-WR-CALDESC:Évènements pour Andrésy Maurecourt Tennis de table
REFRESH-INTERVAL;VALUE=DURATION:PT1H
X-Robots-Tag:noindex
X-PUBLISHED-TTL:PT1H
BEGIN:VTIMEZONE
TZID:Europe/Paris
BEGIN:DAYLIGHT
TZOFFSETFROM:+0100
TZOFFSETTO:+0200
TZNAME:CEST
DTSTART:20230326T010000
END:DAYLIGHT
BEGIN:STANDARD
TZOFFSETFROM:+0200
TZOFFSETTO:+0100
TZNAME:CET
DTSTART:20231029T010000
END:STANDARD
BEGIN:DAYLIGHT
TZOFFSETFROM:+0100
TZOFFSETTO:+0200
TZNAME:CEST
DTSTART:20240331T010000
END:DAYLIGHT
BEGIN:STANDARD
TZOFFSETFROM:+0200
TZOFFSETTO:+0100
TZNAME:CET
DTSTART:20241027T010000
END:STANDARD
BEGIN:DAYLIGHT
TZOFFSETFROM:+0100
TZOFFSETTO:+0200
TZNAME:CEST
DTSTART:20250330T010000
END:DAYLIGHT
BEGIN:STANDARD
TZOFFSETFROM:+0200
TZOFFSETTO:+0100
TZNAME:CET
DTSTART:20251026T010000
END:STANDARD
END:VTIMEZONE
BEGIN:VEVENT
DTSTART;TZID=Europe/Paris:20240913T200000
DTEND;TZID=Europe/Paris:20240913T200000
DTSTAMP:20260420T223416
CREATED:20240902T081122Z
LAST-MODIFIED:20240903T082149Z
UID:13586-1726257600-1726257600@andresy-maurecourt-tt.fr
SUMMARY:Assemblée Générale ASAMTT
DESCRIPTION:Translator\n\n\n\n\n\n\n\n\n  \n \n\n\nTranslator\n\n\n\n\n\n\n\n\n  \n \n\n\nTranslator\n\n\n\n\n\n\n\n\n  \nChers adhérents\, \, \nNous avons le plaisir de vous convier à notre Assemblée Générale annuelle qui se tiendra le vendredi 13 septembre 2024 au COSEC d’Andrésy à partir de 20h00. Ce moment important de la vie du club est l’occasion pour chacun de faire le point sur la saison écoulée\, de discuter des projets à venir\, et de participer activement aux décisions qui façonneront l’avenir de notre club. \nVotre présence est essentielle pour assurer le bon fonctionnement et le dynamisme de notre association. Nous vous encourageons vivement à venir partager vos idées\, vos suggestions\, et à participer aux échanges. Ensemble\, nous pourrons continuer à faire du club de tennis de table d’Andrésy un lieu de sport\, de convivialité\, et de passion pour tous ses membres. \nNous comptons sur votre présence et votre engagement lors de cette soirée qui se clôturera\, comme à l’accoutumée\, par un moment convivial. \nÀ très bientôt\,\nLe bureau ASAMTT
URL:https://andresy-maurecourt-tt.fr/event/assemblee-generale-asamtt/
LOCATION:COSEC ANDRÉSY\, Rue des Ormeteaux\, Andrésy\, 78570\, France
END:VEVENT
END:VCALENDAR