BEGIN:VCALENDAR
VERSION:2.0
PRODID:-//Andrésy Maurecourt Tennis de table - ECPv6.15.16//NONSGML v1.0//EN
CALSCALE:GREGORIAN
METHOD:PUBLISH
X-ORIGINAL-URL:https://andresy-maurecourt-tt.fr
X-WR-CALDESC:Évènements pour Andrésy Maurecourt Tennis de table
REFRESH-INTERVAL;VALUE=DURATION:PT1H
X-Robots-Tag:noindex
X-PUBLISHED-TTL:PT1H
BEGIN:VTIMEZONE
TZID:Europe/Paris
BEGIN:DAYLIGHT
TZOFFSETFROM:+0100
TZOFFSETTO:+0200
TZNAME:CEST
DTSTART:20230326T010000
END:DAYLIGHT
BEGIN:STANDARD
TZOFFSETFROM:+0200
TZOFFSETTO:+0100
TZNAME:CET
DTSTART:20231029T010000
END:STANDARD
BEGIN:DAYLIGHT
TZOFFSETFROM:+0100
TZOFFSETTO:+0200
TZNAME:CEST
DTSTART:20240331T010000
END:DAYLIGHT
BEGIN:STANDARD
TZOFFSETFROM:+0200
TZOFFSETTO:+0100
TZNAME:CET
DTSTART:20241027T010000
END:STANDARD
BEGIN:DAYLIGHT
TZOFFSETFROM:+0100
TZOFFSETTO:+0200
TZNAME:CEST
DTSTART:20250330T010000
END:DAYLIGHT
BEGIN:STANDARD
TZOFFSETFROM:+0200
TZOFFSETTO:+0100
TZNAME:CET
DTSTART:20251026T010000
END:STANDARD
END:VTIMEZONE
BEGIN:VEVENT
DTSTART;VALUE=DATE:20241012
DTEND;VALUE=DATE:20241013
DTSTAMP:20260420T210417
CREATED:20240916T202417Z
LAST-MODIFIED:20241005T195507Z
UID:13789-1728691200-1728777599@andresy-maurecourt-tt.fr
SUMMARY:Critérium Individuel - Journée 1
DESCRIPTION:Translator\n\n\n\n\n\n\n\n\n  \n\nCritérium Fédéral\n\n\nPoules du 1er tour (V3 du 01/10/24) \nLes inscriptions pour le Critérium Fédéral sont closes pour le 1er tour. \nPour le niveau départemental\, l’inscription peut être faite jusqu’au 22/09 en ligne sur l’espace club* (ou via la fiche F16) \n* https://monclub.fftt.com/Sportifs/Engagements/FED_Critérium Fédéral puis cocher les joueurs à inscrire. \nRèglement 2024/2025 \nVous pouvez suivre sur fftt.com les résultats détaillés.
URL:https://andresy-maurecourt-tt.fr/event/criterium-individuel-journee-1/
END:VEVENT
END:VCALENDAR