BEGIN:VCALENDAR
VERSION:2.0
PRODID:-//Andrésy Maurecourt Tennis de table - ECPv6.15.16//NONSGML v1.0//EN
CALSCALE:GREGORIAN
METHOD:PUBLISH
X-ORIGINAL-URL:https://andresy-maurecourt-tt.fr
X-WR-CALDESC:Évènements pour Andrésy Maurecourt Tennis de table
REFRESH-INTERVAL;VALUE=DURATION:PT1H
X-Robots-Tag:noindex
X-PUBLISHED-TTL:PT1H
BEGIN:VTIMEZONE
TZID:Europe/Paris
BEGIN:DAYLIGHT
TZOFFSETFROM:+0100
TZOFFSETTO:+0200
TZNAME:CEST
DTSTART:20230326T010000
END:DAYLIGHT
BEGIN:STANDARD
TZOFFSETFROM:+0200
TZOFFSETTO:+0100
TZNAME:CET
DTSTART:20231029T010000
END:STANDARD
BEGIN:DAYLIGHT
TZOFFSETFROM:+0100
TZOFFSETTO:+0200
TZNAME:CEST
DTSTART:20240331T010000
END:DAYLIGHT
BEGIN:STANDARD
TZOFFSETFROM:+0200
TZOFFSETTO:+0100
TZNAME:CET
DTSTART:20241027T010000
END:STANDARD
BEGIN:DAYLIGHT
TZOFFSETFROM:+0100
TZOFFSETTO:+0200
TZNAME:CEST
DTSTART:20250330T010000
END:DAYLIGHT
BEGIN:STANDARD
TZOFFSETFROM:+0200
TZOFFSETTO:+0100
TZNAME:CET
DTSTART:20251026T010000
END:STANDARD
END:VTIMEZONE
BEGIN:VEVENT
DTSTART;TZID=Europe/Paris:20241101T000000
DTEND;TZID=Europe/Paris:20241109T000000
DTSTAMP:20260420T193643
CREATED:20231102T075403Z
LAST-MODIFIED:20231102T075403Z
UID:11043-1730419200-1731110400@andresy-maurecourt-tt.fr
SUMMARY:Organisation Partenariat franco-allemand
DESCRIPTION:Retour sur le week-end réunion franco allemande\nLa demande de subvention Ofag pour les remboursements sera à faire avant le 15 février. \nLes allemands viennent du 28 juillet au samedi 03 Août.\nLe public ciblé par cet échange serait les enfants de 12 à 17 ans.\nIls seront hébergés dans les familles et viendront en mini-bus. \nNous nous irons du 1er novembre au 9 novembre 2024.\nNous serons aussi hébergés dans les familles.\nNous prendrions le train pour nous y rendre ( coups à avancer puis rembourser sur facture ) \nLes activités seront prévues en avance et nous essayerons d’avoir des aides de la ville ou de la région ( l’ofag paye jusqu’à 250e par jour pr le groupe ).\nLes repas du midi seront aussi pris en charges par l’ofag ( 15e par jour par enfant ).\nJe prévois le planning pr les allemands et vis versa pr nous. \nPour le choix des enfants concernés : ce sera au volontariat car tout le monde n’est pas intéressé par le projet. \nLes Allemands souhaitent faire un partenariat sur le long terme ( chaque année).\nPour commencer cet echange nous partons sur 6/8 jeunes et 2 accompagnateurs.\nNous verrons ensuite si plus de jeunes souhaitent y participer chaque année.\nMaximum 70 personnes par échange ( accompagnateurs compris ). \nLa fédération allemande de tennis de table à publié un article sur notre partenariat ( échange ) franco-allemand en collaboration avec les villes de Baden et Rodgau!\nSuper initiative!\nOfag \nhttps://www.tischtennis.de/news/deutsch-franzoesischer-austausch-fuer-olympia-nimmt-konkret-gestalt-an.html
URL:https://andresy-maurecourt-tt.fr/event/organisation-partenariat-franco-allemand-2/
END:VEVENT
BEGIN:VEVENT
DTSTART;TZID=Europe/Paris:20241108T203000
DTEND;TZID=Europe/Paris:20241108T203000
DTSTAMP:20260420T193643
CREATED:20240916T194426Z
LAST-MODIFIED:20240916T195704Z
UID:13773-1731097800-1731097800@andresy-maurecourt-tt.fr
SUMMARY:Championnat de France Phase 1 - Journée 4
DESCRIPTION:Championnat de France Phase 1\nJournée 4\n \n  \nAndrésy-Maurecourt 1 – D1 – Poule 2 –> Reçoit Viroflay \nAndrésy-Maurecourt 2 – D2 – Poule  –> Reçoit SQY \nAndrésy-Maurecourt 3 – D2 – Poule  –> Reçoit Houilles \nAndrésy-Maurecourt 4 – D3 – Poule 1 –> Va à Perray \nAndrésy-Maurecourt 5 – D3 – Poule 2  –> Va à Perray \nAndrésy-Maurecourt 6 – D4 – Poule 10  –> Va à Magnanville
URL:https://andresy-maurecourt-tt.fr/event/championnat-de-france-phase-1-journee-4/
END:VEVENT
END:VCALENDAR